BEGIN:VCALENDAR
VERSION:2.0
PRODID:-//Mateřská škola KOŠÍK - ECPv6.11.0.1//NONSGML v1.0//EN
CALSCALE:GREGORIAN
METHOD:PUBLISH
X-WR-CALNAME:Mateřská škola KOŠÍK
X-ORIGINAL-URL:https://mskosik.cz
X-WR-CALDESC:Akce na Mateřská škola KOŠÍK
REFRESH-INTERVAL;VALUE=DURATION:PT1H
X-Robots-Tag:noindex
X-PUBLISHED-TTL:PT1H
BEGIN:VTIMEZONE
TZID:Europe/Prague
BEGIN:DAYLIGHT
TZOFFSETFROM:+0100
TZOFFSETTO:+0200
TZNAME:CEST
DTSTART:20210328T010000
END:DAYLIGHT
BEGIN:STANDARD
TZOFFSETFROM:+0200
TZOFFSETTO:+0100
TZNAME:CET
DTSTART:20211031T010000
END:STANDARD
END:VTIMEZONE
BEGIN:VEVENT
DTSTART;TZID=Europe/Prague:20210614T080000
DTEND;TZID=Europe/Prague:20210614T120000
DTSTAMP:20260419T171153
CREATED:20210603T082405Z
LAST-MODIFIED:20210603T082405Z
UID:1202-1623657600-1623672000@mskosik.cz
SUMMARY:VÝLET S BATŮŽKY Beránci
DESCRIPTION:Vážení rodiče\, \nv pondělí 14. 6. se vydáme s dětmi na dobrodružný výlet s batůžky. Čeká nás výlet k dětskému hřišti U Hrnčířů (cca 1 km)\, během cesty budeme společně plnit zajímavé úkoly. \nProsíme\, nachystejte dětem batůžek s dobrotami a pití. \nPro více informací sledujte naši aplikaci Twigsee.
URL:https://mskosik.cz/akce/vylet-s-batuzky-beranci/
CATEGORIES:Akce
ATTACH;FMTTYPE=image/jpeg:https://mskosik.cz/wp-content/uploads/2021/06/Cesky_raj_horolezecka_stena-43-1280x853-1.jpg
END:VEVENT
END:VCALENDAR