BEGIN:VCALENDAR
VERSION:2.0
PRODID:-//Mateřská škola KOŠÍK - ECPv6.11.0.1//NONSGML v1.0//EN
CALSCALE:GREGORIAN
METHOD:PUBLISH
X-ORIGINAL-URL:https://mskosik.cz
X-WR-CALDESC:Akce na Mateřská škola KOŠÍK
REFRESH-INTERVAL;VALUE=DURATION:PT1H
X-Robots-Tag:noindex
X-PUBLISHED-TTL:PT1H
BEGIN:VTIMEZONE
TZID:Europe/Prague
BEGIN:DAYLIGHT
TZOFFSETFROM:+0100
TZOFFSETTO:+0200
TZNAME:CEST
DTSTART:20220327T010000
END:DAYLIGHT
BEGIN:STANDARD
TZOFFSETFROM:+0200
TZOFFSETTO:+0100
TZNAME:CET
DTSTART:20221030T010000
END:STANDARD
END:VTIMEZONE
BEGIN:VEVENT
DTSTART;TZID=Europe/Prague:20220412T080000
DTEND;TZID=Europe/Prague:20220412T120000
DTSTAMP:20260424T121438
CREATED:20220223T123410Z
LAST-MODIFIED:20220224T093640Z
UID:1740-1649750400-1649764800@mskosik.cz
SUMMARY:ZELENÝ DEN
DESCRIPTION:Milí rodiče\, \nV ÚT 12.4.2022 proběhne v našich školkách zelený den.\nDěti se můžou těšit na zelený program. \nProsíme\, aby si všechny děti oblékly zelené tričko. \nBUDEME SE TĚŠIT! \nVíce informací sledujte v LYFLE.
URL:https://mskosik.cz/akce/zeleny-den/
CATEGORIES:Akce
ATTACH;FMTTYPE=image/jpeg:https://mskosik.cz/wp-content/uploads/2022/02/zeleny-den.jpg
END:VEVENT
BEGIN:VEVENT
DTSTART;TZID=Europe/Prague:20220420T090000
DTEND;TZID=Europe/Prague:20220420T100000
DTSTAMP:20260424T121438
CREATED:20220209T120150Z
LAST-MODIFIED:20220414T085619Z
UID:1683-1650445200-1650448800@mskosik.cz
SUMMARY:Divadélko Koloběžka (pobočka Šeberov)
DESCRIPTION:Milí rodiče\, \nVe středu 20.4.2022 přijede do naší školky v Šeberově divadélko Koloběžka. Budeme se těšit na pohádku „Na tom našem dvoře“. Představení začíná v 9:00. \nV tento den mohou dorazit i děti\, co normálně nechodí – formou náhrady nebo jen na dopoledne (vyzvednutí před obědem) – vše po domluvě s učiteli.
URL:https://mskosik.cz/akce/divadelko-kolobezka-pobocka-seberov/
CATEGORIES:Akce
ATTACH;FMTTYPE=image/jpeg:https://mskosik.cz/wp-content/uploads/2022/02/NA-TOM-NASEM-DVORE-2.jpg
END:VEVENT
BEGIN:VEVENT
DTSTART;TZID=Europe/Prague:20220427T080000
DTEND;TZID=Europe/Prague:20220427T120000
DTSTAMP:20260424T121438
CREATED:20220316T085623Z
LAST-MODIFIED:20220414T085038Z
UID:1776-1651046400-1651060800@mskosik.cz
SUMMARY:KURZ PRVNÍ POMOCI PRO DĚTI - ZMĚNA NA STŘEDU
DESCRIPTION:Milí rodiče\, \nve středu 27.4.2022 bude na naší Zbraslavské pobočce probíhat projektový den první pomoci pro děti. Program začne již v 8 hodin ráno a bude trvat celé dopoledne. Můžete se těšit na vzácného hosta – odborníka z oboru – naší školkovou paní doktorku Mariku. \nPaní doktorka společně s učiteli připravila program dětem tak\, aby se děti zábavnou formou mohly naučit něco z první pomoci\, ale také hlavně o tom\, jak o své tělo pečovat a jak se chovat\, abychom si neublížili. S paní doktorkou přijede i veliký medvěd Lupin – kterého můžete znát z naší školkové pohádky a ukáže nám\, jak správně přecházet silnici a jak pomoci medvědovi\, který se nerozhlédne a auto do něj narazí. \nDěti si budou moci půjčit lékařské nástroje a odborně ošetřit Lupinova zranění. Budeme se také učit čísla záchranné služby. \nBudeme se na vás těšit!
URL:https://mskosik.cz/akce/kurz-prvni-pomoci-pro-deti/
CATEGORIES:Akce
ATTACH;FMTTYPE=image/jpeg:https://mskosik.cz/wp-content/uploads/2022/03/3079870394-400x400-1.jpg
END:VEVENT
END:VCALENDAR