BEGIN:VCALENDAR
VERSION:2.0
PRODID:-//Mateřská škola KOŠÍK - ECPv6.11.0.1//NONSGML v1.0//EN
CALSCALE:GREGORIAN
METHOD:PUBLISH
X-ORIGINAL-URL:https://mskosik.cz
X-WR-CALDESC:Akce na Mateřská škola KOŠÍK
REFRESH-INTERVAL;VALUE=DURATION:PT1H
X-Robots-Tag:noindex
X-PUBLISHED-TTL:PT1H
BEGIN:VTIMEZONE
TZID:Europe/Prague
BEGIN:DAYLIGHT
TZOFFSETFROM:+0100
TZOFFSETTO:+0200
TZNAME:CEST
DTSTART:20240331T010000
END:DAYLIGHT
BEGIN:STANDARD
TZOFFSETFROM:+0200
TZOFFSETTO:+0100
TZNAME:CET
DTSTART:20241027T010000
END:STANDARD
END:VTIMEZONE
BEGIN:VEVENT
DTSTART;TZID=Europe/Prague:20240111T093000
DTEND;TZID=Europe/Prague:20240111T103000
DTSTAMP:20260420T155103
CREATED:20231004T103519Z
LAST-MODIFIED:20231004T103532Z
UID:2239-1704965400-1704969000@mskosik.cz
SUMMARY:DIVADLO - Šeberov
DESCRIPTION:Milí rodiče\, \nVe čtvrtek 11.1.2024 přijede do naší školky v Šeberově divadlo A Šmytec. Budeme se těšit na pohádku „Birlibán“. Představení začíná v 9:30. \nV tento den mohou dorazit i děti\, co normálně nechodí – formou náhrady nebo jen na dopoledne (vyzvednutí před obědem) – vše po domluvě s učiteli.
URL:https://mskosik.cz/akce/divadlo-seberov-2/
CATEGORIES:Akce
ATTACH;FMTTYPE=image/jpeg:https://mskosik.cz/wp-content/uploads/2023/10/manasci_ruce.jpg
END:VEVENT
BEGIN:VEVENT
DTSTART;TZID=Europe/Prague:20240124T093000
DTEND;TZID=Europe/Prague:20240124T120000
DTSTAMP:20260420T155103
CREATED:20231004T102529Z
LAST-MODIFIED:20231004T102537Z
UID:2237-1706088600-1706097600@mskosik.cz
SUMMARY:SOLNÁ JESKYNĚ - Beránci
DESCRIPTION:Milí rodiče\, \nve středu 24. 1. 2024 čeká třídu Beránků výlet do jihoměstské SOLNÉ JESKYNĚ. \nDěti přiveďte do školky nejpozději v 8:45\, abychom stihli autobus – pojedeme MHD. \nNÁVRAT DO MŠ na OBĚD – cca ve 12:00. \nS SEBOU DO BATŮŽKU:\nOblečení\, které se může zašpinit od soli\nBíle ponožky!!! \nVítáme i děti\, které v tento den nechodí (po předchozí domluvě s učiteli).
URL:https://mskosik.cz/akce/solna-jeskyne-beranci-8/
CATEGORIES:Akce
ATTACH;FMTTYPE=image/jpeg:https://mskosik.cz/wp-content/uploads/2023/10/Obrazek1.jpg
END:VEVENT
BEGIN:VEVENT
DTSTART;TZID=Europe/Prague:20240130T093000
DTEND;TZID=Europe/Prague:20240130T120000
DTSTAMP:20260420T155103
CREATED:20231004T094417Z
LAST-MODIFIED:20231004T094458Z
UID:2234-1706607000-1706616000@mskosik.cz
SUMMARY:SOLNÁ JESKYNĚ - Broučci
DESCRIPTION:Milí rodiče\, \nv úterý 30. 1. 2024 čeká třídu Broučků výlet do jihoměstské SOLNÉ JESKYNĚ. \nDěti přiveďte do školky nejpozději v 8:45\, abychom stihli autobus – pojedeme MHD. \nNÁVRAT DO MŠ na OBĚD – cca ve 12:00. \nS SEBOU DO BATŮŽKU:\nOblečení\, které se může zašpinit od soli\nBíle ponožky!!! \nVítáme i děti\, které v tento den nechodí (po předchozí domluvě s učiteli).
URL:https://mskosik.cz/akce/solna-jeskyne-broucci-4/
CATEGORIES:Akce
ATTACH;FMTTYPE=image/jpeg:https://mskosik.cz/wp-content/uploads/2023/10/Obrazek1.jpg
END:VEVENT
END:VCALENDAR