BEGIN:VCALENDAR
VERSION:2.0
PRODID:-//Mateřská škola KOŠÍK - ECPv6.11.0.1//NONSGML v1.0//EN
CALSCALE:GREGORIAN
METHOD:PUBLISH
X-WR-CALNAME:Mateřská škola KOŠÍK
X-ORIGINAL-URL:https://mskosik.cz
X-WR-CALDESC:Akce na Mateřská škola KOŠÍK
REFRESH-INTERVAL;VALUE=DURATION:PT1H
X-Robots-Tag:noindex
X-PUBLISHED-TTL:PT1H
BEGIN:VTIMEZONE
TZID:Europe/Prague
BEGIN:DAYLIGHT
TZOFFSETFROM:+0100
TZOFFSETTO:+0200
TZNAME:CEST
DTSTART:20230326T010000
END:DAYLIGHT
BEGIN:STANDARD
TZOFFSETFROM:+0200
TZOFFSETTO:+0100
TZNAME:CET
DTSTART:20231029T010000
END:STANDARD
END:VTIMEZONE
BEGIN:VEVENT
DTSTART;TZID=Europe/Prague:20231011T093000
DTEND;TZID=Europe/Prague:20231011T120000
DTSTAMP:20260420T200237
CREATED:20231002T072125Z
LAST-MODIFIED:20231002T072133Z
UID:2192-1697016600-1697025600@mskosik.cz
SUMMARY:SOLNÁ JESKYNĚ - Beránci
DESCRIPTION:Milí rodiče\, \nve středu 11. 10. 2023 čeká třídu Beránků výlet do jihoměstské SOLNÉ JESKYNĚ. \nDěti přiveďte do školky nejpozději v 8:45\, abychom stihli autobus – pojedeme MHD. \nNÁVRAT DO MŠ na OBĚD – cca ve 12:00. \nS SEBOU DO BATŮŽKU:\nOblečení\, které se může zašpinit od soli\nBíle ponožky!!! \nVítáme i děti\, které v tento den nechodí (po předchozí domluvě s učiteli).
URL:https://mskosik.cz/akce/solna-jeskyne-beranci-5/
CATEGORIES:Akce
ATTACH;FMTTYPE=image/jpeg:https://mskosik.cz/wp-content/uploads/2023/10/Obrazek1.jpg
END:VEVENT
BEGIN:VEVENT
DTSTART;TZID=Europe/Prague:20231025T093000
DTEND;TZID=Europe/Prague:20231025T120000
DTSTAMP:20260420T200237
CREATED:20231002T072503Z
LAST-MODIFIED:20231002T072510Z
UID:2196-1698226200-1698235200@mskosik.cz
SUMMARY:SOLNÁ JESKYNĚ - Beránci
DESCRIPTION:Milí rodiče\, \nve středu 25. 10. 2023 čeká třídu Beránků výlet do jihoměstské SOLNÉ JESKYNĚ. \nDěti přiveďte do školky nejpozději v 8:45\, abychom stihli autobus – pojedeme MHD. \nNÁVRAT DO MŠ na OBĚD – cca ve 12:00. \nS SEBOU DO BATŮŽKU:\nOblečení\, které se může zašpinit od soli\nBíle ponožky!!! \nVítáme i děti\, které v tento den nechodí (po předchozí domluvě s učiteli).
URL:https://mskosik.cz/akce/solna-jeskyne-beranci-6/
CATEGORIES:Akce
ATTACH;FMTTYPE=image/jpeg:https://mskosik.cz/wp-content/uploads/2023/10/Obrazek1.jpg
END:VEVENT
BEGIN:VEVENT
DTSTART;TZID=Europe/Prague:20231026T093000
DTEND;TZID=Europe/Prague:20231026T143000
DTSTAMP:20260420T200237
CREATED:20230929T062633Z
LAST-MODIFIED:20230929T062703Z
UID:2168-1698312600-1698330600@mskosik.cz
SUMMARY:CANISTERAPIE - Šeberov
DESCRIPTION:Milí rodiče\, \nve čtvrtek 26.10.2023 přijede do naší školky terapeut se speciálně vycvičeným psem. \nProgram začíná v 9:30. \nCANISTERAPIE – Program určený pro malé děti od jednoho roku do šesti let. Rozvíjí se při něm jemná i hrubá motorika\, koordinace rukou a nohou\, vztah dětí ke zvířatům a nádherně se uvolní při polohování. Více zde: https://helppes.cz/ \n 
URL:https://mskosik.cz/akce/canisterapie-seberov-2/
CATEGORIES:Akce
ATTACH;FMTTYPE=image/jpeg:https://mskosik.cz/wp-content/uploads/2021/09/canisterapie_shutterstock_423355195.840x540c.jpg
END:VEVENT
BEGIN:VEVENT
DTSTART;VALUE=DATE:20231031
DTEND;VALUE=DATE:20231101
DTSTAMP:20260420T200237
CREATED:20231023T073639Z
LAST-MODIFIED:20231023T073639Z
UID:2318-1698710400-1698796799@mskosik.cz
SUMMARY:Halloweenský karneval - Šeberov
DESCRIPTION:Milí rodiče\, \nv úterý 31.10.2023 čeká všechny naše školky halloweenský karneval. Děti si tedy mohou přinést kostým. Užijeme si spolu spoustu zábavy – budeme zpívat\, tancovat\, hrát hry a určitě nás čekají i nějaké dobrůtky! \nZvané jsou i děti\, které v tento den do školky nechodí – buď formou náhrady nebo vyzvednutí dětí před obědem.
URL:https://mskosik.cz/akce/halloweensky-karneval-seberov/
CATEGORIES:Akce
ATTACH;FMTTYPE=image/jpeg:https://mskosik.cz/wp-content/uploads/2023/09/haloooo.jpg
END:VEVENT
END:VCALENDAR