BEGIN:VCALENDAR
VERSION:2.0
PRODID:-//Mateřská škola KOŠÍK - ECPv6.11.0.1//NONSGML v1.0//EN
CALSCALE:GREGORIAN
METHOD:PUBLISH
X-WR-CALNAME:Mateřská škola KOŠÍK
X-ORIGINAL-URL:https://mskosik.cz
X-WR-CALDESC:Akce na Mateřská škola KOŠÍK
REFRESH-INTERVAL;VALUE=DURATION:PT1H
X-Robots-Tag:noindex
X-PUBLISHED-TTL:PT1H
BEGIN:VTIMEZONE
TZID:Europe/Prague
BEGIN:DAYLIGHT
TZOFFSETFROM:+0100
TZOFFSETTO:+0200
TZNAME:CEST
DTSTART:20230326T010000
END:DAYLIGHT
BEGIN:STANDARD
TZOFFSETFROM:+0200
TZOFFSETTO:+0100
TZNAME:CET
DTSTART:20231029T010000
END:STANDARD
END:VTIMEZONE
BEGIN:VEVENT
DTSTART;TZID=Europe/Prague:20230911T170000
DTEND;TZID=Europe/Prague:20230911T180000
DTSTAMP:20260420T212601
CREATED:20230929T071127Z
LAST-MODIFIED:20230929T071153Z
UID:2173-1694451600-1694455200@mskosik.cz
SUMMARY:TŘÍDNÍ SCHŮZKY - Šeberov
DESCRIPTION:Milí rodiče\, \nv pondělí 11.9.2023 v 17:00 proběhnou třídní schůzky.
URL:https://mskosik.cz/akce/tridni-schuzky-seberov/
CATEGORIES:Akce
ATTACH;FMTTYPE=image/png:https://mskosik.cz/wp-content/uploads/2023/08/kosik-seberov-logo.png
END:VEVENT
END:VCALENDAR