BEGIN:VCALENDAR
VERSION:2.0
PRODID:-//Mateřská škola KOŠÍK - ECPv6.11.0.1//NONSGML v1.0//EN
CALSCALE:GREGORIAN
METHOD:PUBLISH
X-WR-CALNAME:Mateřská škola KOŠÍK
X-ORIGINAL-URL:https://mskosik.cz
X-WR-CALDESC:Akce na Mateřská škola KOŠÍK
REFRESH-INTERVAL;VALUE=DURATION:PT1H
X-Robots-Tag:noindex
X-PUBLISHED-TTL:PT1H
BEGIN:VTIMEZONE
TZID:Europe/Prague
BEGIN:DAYLIGHT
TZOFFSETFROM:+0100
TZOFFSETTO:+0200
TZNAME:CEST
DTSTART:20220327T010000
END:DAYLIGHT
BEGIN:STANDARD
TZOFFSETFROM:+0200
TZOFFSETTO:+0100
TZNAME:CET
DTSTART:20221030T010000
END:STANDARD
END:VTIMEZONE
BEGIN:VEVENT
DTSTART;TZID=Europe/Prague:20220126T080000
DTEND;TZID=Europe/Prague:20220126T120000
DTSTAMP:20260422T073144
CREATED:20210910T094548Z
LAST-MODIFIED:20211123T213013Z
UID:1355-1643184000-1643198400@mskosik.cz
SUMMARY:ZRUŠENO (Solná jeskyně - Broučci)
DESCRIPTION:Milí rodiče\, \nVe středu 26.1.2022  nás čeká pobyt v jihoměstské solné jeskyni. \nODJEZD Z MŠ v 9:00 \nNÁVRAT DO MŠ na OBĚD – nejpozději na 12:00 \nProcedura trvá 45 minut\, děti mají k dispozici solné pískoviště a hračky. \nS SEBOU DO BATŮŽKU: \n\nOblečení\, které se může zašpinit od soli\nTeplé ponožky\n\nDo solné jeskyně pojedeme MHD – z nařízení mají děti předškolního věku výjimku a nemusí nosit žádnou pokrývku úst. Pokud i přesto chcete\, aby vaše dítě v MHD roušku mělo\, tak jí prosím přibalte do batohu a sdělte tuto informaci učitelům. \nSledujte také naší školkovou aplikaci LYFLE.
URL:https://mskosik.cz/akce/1355/
CATEGORIES:Akce
ATTACH;FMTTYPE=image/png:https://mskosik.cz/wp-content/uploads/2021/09/zruseno.png
END:VEVENT
BEGIN:VEVENT
DTSTART;TZID=Europe/Prague:20220127T080000
DTEND;TZID=Europe/Prague:20220127T120000
DTSTAMP:20260422T073144
CREATED:20210910T100526Z
LAST-MODIFIED:20211123T213212Z
UID:1369-1643270400-1643284800@mskosik.cz
SUMMARY:ZRUŠENO (Solná jeskyně - Beránci)
DESCRIPTION:Milí rodiče\, \nVe čtvrtek 27.1.2022  nás čeká pobyt v jihoměstské solné jeskyni. \nODJEZD Z MŠ v 9:00 \nNÁVRAT DO MŠ na OBĚD – nejpozději na 12:00 \nProcedura trvá 45 minut\, děti mají k dispozici solné pískoviště a hračky. \nS SEBOU DO BATŮŽKU: \n\nOblečení\, které se může zašpinit od soli\nTeplé ponožky\n\nDo solné jeskyně pojedeme MHD – z nařízení mají děti předškolního věku výjimku a nemusí nosit žádnou pokrývku úst. Pokud i přesto chcete\, aby vaše dítě v MHD roušku mělo\, tak jí prosím přibalte do batohu a sdělte tuto informaci učitelům. \nSledujte také naší školkovou aplikaci LYFLE.
URL:https://mskosik.cz/akce/solna-jeskyne-beranci-4/
CATEGORIES:Akce
ATTACH;FMTTYPE=image/png:https://mskosik.cz/wp-content/uploads/2021/09/zruseno.png
END:VEVENT
END:VCALENDAR