BEGIN:VCALENDAR
VERSION:2.0
PRODID:-//Mateřská škola KOŠÍK - ECPv6.11.0.1//NONSGML v1.0//EN
CALSCALE:GREGORIAN
METHOD:PUBLISH
X-WR-CALNAME:Mateřská škola KOŠÍK
X-ORIGINAL-URL:https://mskosik.cz
X-WR-CALDESC:Akce na Mateřská škola KOŠÍK
REFRESH-INTERVAL;VALUE=DURATION:PT1H
X-Robots-Tag:noindex
X-PUBLISHED-TTL:PT1H
BEGIN:VTIMEZONE
TZID:Europe/Prague
BEGIN:DAYLIGHT
TZOFFSETFROM:+0100
TZOFFSETTO:+0200
TZNAME:CEST
DTSTART:20210328T010000
END:DAYLIGHT
BEGIN:STANDARD
TZOFFSETFROM:+0200
TZOFFSETTO:+0100
TZNAME:CET
DTSTART:20211031T010000
END:STANDARD
END:VTIMEZONE
BEGIN:VEVENT
DTSTART;TZID=Europe/Prague:20210513T090000
DTEND;TZID=Europe/Prague:20210513T110000
DTSTAMP:20260422T211629
CREATED:20210224T123421Z
LAST-MODIFIED:20210505T162042Z
UID:1082-1620896400-1620903600@mskosik.cz
SUMMARY:Fotografování Beránci 13.5.21
DESCRIPTION:Milí rodiče\, \nv ve čtvrtek 13.5. 2021 proběhne v naší mateřské škole fotografování. \nZačínat budeme v 9:00 – prosíme\, aby všechny děti přišly s předstihem. \nKaždý bude mít možnost obdržet balíček fotografií za 350\,- (viz letáček). Jednotlivé fotografie se budou fotit na bílem pozadí\, tak nedoporučujeme mít jen čistě bílé oblečení. \nOd paní fotografky dostanete spolu s balíčkem přístupy do galerie a můžete si u ní poté přiobjednat jakékoli fotografie samy. \nPro ty\, kteří naší paní fotografku neznají\, tak se můžete podívat na její práci zde: \nhttps://www.fotostudiozaba.cz/ \nBalíček fotografií se bude hradit na účet školy až po obdržení fotografií. Instrukce k platbě vám dáme včas. Ostatní do-objednávky fotografií si již každý rodič bude finančně řešit s paní fotografkou sám.
URL:https://mskosik.cz/akce/fotografovani-beranci/
LOCATION:Šeberov\, K Hrnčířům 136\, Praha 4\, Česká republika
CATEGORIES:Akce
ATTACH;FMTTYPE=image/jpeg:https://mskosik.cz/wp-content/uploads/2021/02/Zbraslav-1168-scaled.jpg
END:VEVENT
END:VCALENDAR