BEGIN:VCALENDAR
VERSION:2.0
PRODID:-//Mateřská škola KOŠÍK - ECPv6.11.0.1//NONSGML v1.0//EN
CALSCALE:GREGORIAN
METHOD:PUBLISH
X-WR-CALNAME:Mateřská škola KOŠÍK
X-ORIGINAL-URL:https://mskosik.cz
X-WR-CALDESC:Akce na Mateřská škola KOŠÍK
REFRESH-INTERVAL;VALUE=DURATION:PT1H
X-Robots-Tag:noindex
X-PUBLISHED-TTL:PT1H
BEGIN:VTIMEZONE
TZID:Europe/Prague
BEGIN:DAYLIGHT
TZOFFSETFROM:+0100
TZOFFSETTO:+0200
TZNAME:CEST
DTSTART:20210328T010000
END:DAYLIGHT
BEGIN:STANDARD
TZOFFSETFROM:+0200
TZOFFSETTO:+0100
TZNAME:CET
DTSTART:20211031T010000
END:STANDARD
END:VTIMEZONE
BEGIN:VEVENT
DTSTART;TZID=Europe/Prague:20210223T080000
DTEND;TZID=Europe/Prague:20210223T120000
DTSTAMP:20260423T015403
CREATED:20210223T221830Z
LAST-MODIFIED:20210223T222154Z
UID:1060-1614067200-1614081600@mskosik.cz
SUMMARY:Projektový den ve stájích TROJAN
DESCRIPTION:Milí rodiče\, jak jistě víte\, tak naše mateřská škola čerpá finance z některých grantů EU. A právě z Výzvy č. 064: ŠABLONY II – ZVÝŠENÍ KVALITY VZDĚLÁNÍ V MATEŘSKÉ ŠKOLE KOŠÍK – se nám podařilo naplánovat školkový výlet jako Projektový den. \nMůžete se tedy těšit v ÚTERÝ 23.2.2021 na Projektový den ve stáji Trojan\, která je hned za naší školkou. http://www.stajtrojan.cz/o-nas/\nSvačinu plánujeme již na 8:45\, abychom se stihli najíst a obléci a nejpozději v 9:30 začali prohlídku Stájí Trojan s odborným výkladem a programem pro děti.\nDěti si budou moci prohlédnout stáje\, dozví se\, jak se o koně správně starat\, co koně jedí a dokonce si to všechno na jednom koníčkovi ukážeme. Ve školce bude pak program pokračovat grafomotorickými listy\, společným výtvorem a skupinovým povídáním – co všechno již o koních víme! \nPOZOR!!! V rámci prohlídky bude možná i projížďka na poníkovi za asistence chovatelů koní a paní učitelek. Pokud chcete\, aby se vaše dítě projelo na poníkovi\, tak nám prosím udělte souhlas prostřednictvím naší aplikace. Pokud souhlas udělíte a dítě by se pak u koní bálo\, tak ho samozřejmě nutit nebudeme. \nOblečte dětem vhodné oblečení: prosíme o omezení velkých kombinéz. Vhodná obuv do stájí jsou určitě HOLINKY – čekáme\, že tam bude hodně bláta. \nOběd se bude posouvat až na 12 hodinu\, tak počítejte\, že děti půjdou jíst a spát o půl hodinky později. \nUž se moc těšíme!
URL:https://mskosik.cz/akce/projektovy-den-ve-stajich-trojan/
LOCATION:K Vrbičkám 30\, K Vrbičkám 30\, Praha 4\, Česká republika
CATEGORIES:Akce
ATTACH;FMTTYPE=image/jpeg:https://mskosik.cz/wp-content/uploads/2021/02/kun.jpg
END:VEVENT
END:VCALENDAR