BEGIN:VCALENDAR
VERSION:2.0
PRODID:-//Mateřská škola KOŠÍK - ECPv6.11.0.1//NONSGML v1.0//EN
CALSCALE:GREGORIAN
METHOD:PUBLISH
X-ORIGINAL-URL:https://mskosik.cz
X-WR-CALDESC:Akce na Mateřská škola KOŠÍK
REFRESH-INTERVAL;VALUE=DURATION:PT1H
X-Robots-Tag:noindex
X-PUBLISHED-TTL:PT1H
BEGIN:VTIMEZONE
TZID:Europe/Prague
BEGIN:DAYLIGHT
TZOFFSETFROM:+0100
TZOFFSETTO:+0200
TZNAME:CEST
DTSTART:20250330T010000
END:DAYLIGHT
BEGIN:STANDARD
TZOFFSETFROM:+0200
TZOFFSETTO:+0100
TZNAME:CET
DTSTART:20251026T010000
END:STANDARD
END:VTIMEZONE
BEGIN:VEVENT
DTSTART;VALUE=DATE:20250507
DTEND;VALUE=DATE:20250508
DTSTAMP:20260421T222011
CREATED:20250220T125103Z
LAST-MODIFIED:20250220T125103Z
UID:3240-1746576000-1746662399@mskosik.cz
SUMMARY:PLAVÁNÍ
DESCRIPTION:Milí rodiče\, \nve středu 7.5.2025 proběhne kurz plavání (pro přihlášené).
URL:https://mskosik.cz/akce/plavani-37/
CATEGORIES:Akce
ATTACH;FMTTYPE=image/jpeg:https://mskosik.cz/wp-content/uploads/2024/08/1912-scaled.jpg
END:VEVENT
BEGIN:VEVENT
DTSTART;VALUE=DATE:20250514
DTEND;VALUE=DATE:20250515
DTSTAMP:20260421T222011
CREATED:20250220T131830Z
LAST-MODIFIED:20250220T131830Z
UID:3244-1747180800-1747267199@mskosik.cz
SUMMARY:PLAVÁNÍ
DESCRIPTION:Milí rodiče\, \nve středu 14.5.2025 proběhne kurz plavání (pro přihlášené).
URL:https://mskosik.cz/akce/plavani-38/
CATEGORIES:Akce
ATTACH;FMTTYPE=image/jpeg:https://mskosik.cz/wp-content/uploads/2024/08/1912-scaled.jpg
END:VEVENT
END:VCALENDAR