BEGIN:VCALENDAR
VERSION:2.0
PRODID:-//Mateřská škola KOŠÍK - ECPv6.11.0.1//NONSGML v1.0//EN
CALSCALE:GREGORIAN
METHOD:PUBLISH
X-ORIGINAL-URL:https://mskosik.cz
X-WR-CALDESC:Akce na Mateřská škola KOŠÍK
REFRESH-INTERVAL;VALUE=DURATION:PT1H
X-Robots-Tag:noindex
X-PUBLISHED-TTL:PT1H
BEGIN:VTIMEZONE
TZID:Europe/Prague
BEGIN:DAYLIGHT
TZOFFSETFROM:+0100
TZOFFSETTO:+0200
TZNAME:CEST
DTSTART:20250330T010000
END:DAYLIGHT
BEGIN:STANDARD
TZOFFSETFROM:+0200
TZOFFSETTO:+0100
TZNAME:CET
DTSTART:20251026T010000
END:STANDARD
END:VTIMEZONE
BEGIN:VEVENT
DTSTART;VALUE=DATE:20250205
DTEND;VALUE=DATE:20250206
DTSTAMP:20260422T025502
CREATED:20241023T085148Z
LAST-MODIFIED:20241023T085225Z
UID:2980-1738713600-1738799999@mskosik.cz
SUMMARY:PLAVÁNÍ
DESCRIPTION:Milí rodiče\, \nve středu 5.2.2025 proběhne kurz plavání.
URL:https://mskosik.cz/akce/plavani-25/
CATEGORIES:Akce
ATTACH;FMTTYPE=image/jpeg:https://mskosik.cz/wp-content/uploads/2024/08/1912-scaled.jpg
END:VEVENT
BEGIN:VEVENT
DTSTART;VALUE=DATE:20250212
DTEND;VALUE=DATE:20250213
DTSTAMP:20260422T025502
CREATED:20250219T143125Z
LAST-MODIFIED:20250219T143251Z
UID:3211-1739318400-1739404799@mskosik.cz
SUMMARY:PLAVÁNÍ
DESCRIPTION:Milí rodiče\, \nve středu 12.2.2025 proběhne kurz plavání (pro přihlášené).
URL:https://mskosik.cz/akce/plavani-26/
CATEGORIES:Akce
ATTACH;FMTTYPE=image/jpeg:https://mskosik.cz/wp-content/uploads/2024/08/1912-scaled.jpg
END:VEVENT
BEGIN:VEVENT
DTSTART;VALUE=DATE:20250219
DTEND;VALUE=DATE:20250220
DTSTAMP:20260422T025502
CREATED:20250219T143419Z
LAST-MODIFIED:20250219T143419Z
UID:3213-1739923200-1740009599@mskosik.cz
SUMMARY:PLAVÁNÍ
DESCRIPTION:Milí rodiče\, \nve středu 19.2.2025 proběhne kurz plavání (pro přihlášené).
URL:https://mskosik.cz/akce/plavani-27/
CATEGORIES:Akce
ATTACH;FMTTYPE=image/jpeg:https://mskosik.cz/wp-content/uploads/2024/08/1912-scaled.jpg
END:VEVENT
BEGIN:VEVENT
DTSTART;VALUE=DATE:20250226
DTEND;VALUE=DATE:20250227
DTSTAMP:20260422T025502
CREATED:20250219T143536Z
LAST-MODIFIED:20250219T143553Z
UID:3215-1740528000-1740614399@mskosik.cz
SUMMARY:PLAVÁNÍ
DESCRIPTION:Milí rodiče\, \nve středu 26.2.2025 proběhne kurz plavání (pro přihlášené).
URL:https://mskosik.cz/akce/plavani-28/
CATEGORIES:Akce
ATTACH;FMTTYPE=image/jpeg:https://mskosik.cz/wp-content/uploads/2024/08/1912-scaled.jpg
END:VEVENT
END:VCALENDAR