BEGIN:VCALENDAR
VERSION:2.0
PRODID:-//Mateřská škola KOŠÍK - ECPv6.11.0.1//NONSGML v1.0//EN
CALSCALE:GREGORIAN
METHOD:PUBLISH
X-WR-CALNAME:Mateřská škola KOŠÍK
X-ORIGINAL-URL:https://mskosik.cz
X-WR-CALDESC:Akce na Mateřská škola KOŠÍK
REFRESH-INTERVAL;VALUE=DURATION:PT1H
X-Robots-Tag:noindex
X-PUBLISHED-TTL:PT1H
BEGIN:VTIMEZONE
TZID:Europe/Prague
BEGIN:DAYLIGHT
TZOFFSETFROM:+0100
TZOFFSETTO:+0200
TZNAME:CEST
DTSTART:20240331T010000
END:DAYLIGHT
BEGIN:STANDARD
TZOFFSETFROM:+0200
TZOFFSETTO:+0100
TZNAME:CET
DTSTART:20241027T010000
END:STANDARD
END:VTIMEZONE
BEGIN:VEVENT
DTSTART;VALUE=DATE:20241009
DTEND;VALUE=DATE:20241010
DTSTAMP:20260422T094848
CREATED:20241023T081715Z
LAST-MODIFIED:20241023T083258Z
UID:2955-1728432000-1728518399@mskosik.cz
SUMMARY:PLAVÁNÍ
DESCRIPTION:Milí rodiče\, \nve středu 9.10.2024 proběhne kurz plavání.
URL:https://mskosik.cz/akce/plavani-13/
CATEGORIES:Akce
END:VEVENT
BEGIN:VEVENT
DTSTART;VALUE=DATE:20241016
DTEND;VALUE=DATE:20241017
DTSTAMP:20260422T094848
CREATED:20241023T081854Z
LAST-MODIFIED:20241023T083223Z
UID:2957-1729036800-1729123199@mskosik.cz
SUMMARY:PLAVÁNÍ
DESCRIPTION:Milí rodiče\, \nve středu 16.10.2024 proběhne kurz plavání.
URL:https://mskosik.cz/akce/plavani-14/
CATEGORIES:Akce
END:VEVENT
BEGIN:VEVENT
DTSTART;VALUE=DATE:20241023
DTEND;VALUE=DATE:20241024
DTSTAMP:20260422T094848
CREATED:20241023T082008Z
LAST-MODIFIED:20241023T083126Z
UID:2959-1729641600-1729727999@mskosik.cz
SUMMARY:PLAVÁNÍ
DESCRIPTION:Milí rodiče\, \nve středu 23.10.2024 proběhne kurz plavání.
URL:https://mskosik.cz/akce/plavani-15/
CATEGORIES:Akce
END:VEVENT
BEGIN:VEVENT
DTSTART;VALUE=DATE:20241030
DTEND;VALUE=DATE:20241031
DTSTAMP:20260422T094848
CREATED:20241023T083521Z
LAST-MODIFIED:20241023T083521Z
UID:2962-1730246400-1730332799@mskosik.cz
SUMMARY:PLAVÁNÍ
DESCRIPTION:Milí rodiče\, \nve středu 30.10.2024 proběhne kurz plavání.
URL:https://mskosik.cz/akce/plavani-16/
CATEGORIES:Akce
ATTACH;FMTTYPE=image/jpeg:https://mskosik.cz/wp-content/uploads/2024/08/1912-scaled.jpg
END:VEVENT
END:VCALENDAR