BEGIN:VCALENDAR
VERSION:2.0
PRODID:-//Mateřská škola KOŠÍK - ECPv6.11.0.1//NONSGML v1.0//EN
CALSCALE:GREGORIAN
METHOD:PUBLISH
X-WR-CALNAME:Mateřská škola KOŠÍK
X-ORIGINAL-URL:https://mskosik.cz
X-WR-CALDESC:Akce na Mateřská škola KOŠÍK
REFRESH-INTERVAL;VALUE=DURATION:PT1H
X-Robots-Tag:noindex
X-PUBLISHED-TTL:PT1H
BEGIN:VTIMEZONE
TZID:Europe/Prague
BEGIN:DAYLIGHT
TZOFFSETFROM:+0100
TZOFFSETTO:+0200
TZNAME:CEST
DTSTART:20240331T010000
END:DAYLIGHT
BEGIN:STANDARD
TZOFFSETFROM:+0200
TZOFFSETTO:+0100
TZNAME:CET
DTSTART:20241027T010000
END:STANDARD
END:VTIMEZONE
BEGIN:VEVENT
DTSTART;VALUE=DATE:20240410
DTEND;VALUE=DATE:20240411
DTSTAMP:20260422T183905
CREATED:20240209T094229Z
LAST-MODIFIED:20240209T094249Z
UID:2517-1712707200-1712793599@mskosik.cz
SUMMARY:PLAVÁNÍ
DESCRIPTION:Milí rodiče\, \nve středu 10.4.2024 proběhne kurz plavání.
URL:https://mskosik.cz/akce/plavani-8/
CATEGORIES:Akce
ATTACH;FMTTYPE=image/png:https://mskosik.cz/wp-content/uploads/2022/09/download.png
END:VEVENT
BEGIN:VEVENT
DTSTART;VALUE=DATE:20240417
DTEND;VALUE=DATE:20240418
DTSTAMP:20260422T183905
CREATED:20240209T094450Z
LAST-MODIFIED:20240209T094455Z
UID:2519-1713312000-1713398399@mskosik.cz
SUMMARY:PLAVÁNÍ
DESCRIPTION:Milí rodiče\, \nve středu 17.4.2024 proběhne kurz plavání.
URL:https://mskosik.cz/akce/plavani-9/
CATEGORIES:Akce
ATTACH;FMTTYPE=image/png:https://mskosik.cz/wp-content/uploads/2022/09/download.png
END:VEVENT
BEGIN:VEVENT
DTSTART;VALUE=DATE:20240424
DTEND;VALUE=DATE:20240425
DTSTAMP:20260422T183905
CREATED:20240209T094643Z
LAST-MODIFIED:20240209T094823Z
UID:2521-1713916800-1714003199@mskosik.cz
SUMMARY:PLAVÁNÍ
DESCRIPTION:Milí rodiče\, \nve středu 24.4.2024 proběhne kurz plavání.
URL:https://mskosik.cz/akce/plavani-10/
CATEGORIES:Akce
ATTACH;FMTTYPE=image/png:https://mskosik.cz/wp-content/uploads/2022/09/download.png
END:VEVENT
END:VCALENDAR