BEGIN:VCALENDAR
VERSION:2.0
PRODID:-//Mateřská škola KOŠÍK - ECPv6.11.0.1//NONSGML v1.0//EN
CALSCALE:GREGORIAN
METHOD:PUBLISH
X-WR-CALNAME:Mateřská škola KOŠÍK
X-ORIGINAL-URL:https://mskosik.cz
X-WR-CALDESC:Akce na Mateřská škola KOŠÍK
REFRESH-INTERVAL;VALUE=DURATION:PT1H
X-Robots-Tag:noindex
X-PUBLISHED-TTL:PT1H
BEGIN:VTIMEZONE
TZID:Europe/Prague
BEGIN:DAYLIGHT
TZOFFSETFROM:+0100
TZOFFSETTO:+0200
TZNAME:CEST
DTSTART:20240331T010000
END:DAYLIGHT
BEGIN:STANDARD
TZOFFSETFROM:+0200
TZOFFSETTO:+0100
TZNAME:CET
DTSTART:20241027T010000
END:STANDARD
END:VTIMEZONE
BEGIN:VEVENT
DTSTART;VALUE=DATE:20240306
DTEND;VALUE=DATE:20240307
DTSTAMP:20260422T210418
CREATED:20240209T074219Z
LAST-MODIFIED:20240209T074226Z
UID:2505-1709683200-1709769599@mskosik.cz
SUMMARY:PLAVÁNÍ
DESCRIPTION:Milí rodiče\, \nve středu 6.3.2024 proběhne kurz plavání.
URL:https://mskosik.cz/akce/plavani-3/
CATEGORIES:Akce
ATTACH;FMTTYPE=image/png:https://mskosik.cz/wp-content/uploads/2022/09/download.png
END:VEVENT
BEGIN:VEVENT
DTSTART;VALUE=DATE:20240313
DTEND;VALUE=DATE:20240314
DTSTAMP:20260422T210418
CREATED:20240209T074440Z
LAST-MODIFIED:20240209T074446Z
UID:2507-1710288000-1710374399@mskosik.cz
SUMMARY:PLAVÁNÍ
DESCRIPTION:Milí rodiče\, \nve středu 13.3.2024 proběhne kurz plavání.
URL:https://mskosik.cz/akce/plavani-4/
CATEGORIES:Akce
ATTACH;FMTTYPE=image/png:https://mskosik.cz/wp-content/uploads/2022/09/download.png
END:VEVENT
BEGIN:VEVENT
DTSTART;VALUE=DATE:20240320
DTEND;VALUE=DATE:20240321
DTSTAMP:20260422T210418
CREATED:20240209T093414Z
LAST-MODIFIED:20240209T093419Z
UID:2511-1710892800-1710979199@mskosik.cz
SUMMARY:PLAVÁNÍ
DESCRIPTION:Milí rodiče\, \nve středu 20.3.2024 proběhne kurz plavání.
URL:https://mskosik.cz/akce/plavani-5/
CATEGORIES:Akce
ATTACH;FMTTYPE=image/png:https://mskosik.cz/wp-content/uploads/2022/09/download.png
END:VEVENT
BEGIN:VEVENT
DTSTART;VALUE=DATE:20240327
DTEND;VALUE=DATE:20240328
DTSTAMP:20260422T210418
CREATED:20240209T093644Z
LAST-MODIFIED:20240209T093644Z
UID:2513-1711497600-1711583999@mskosik.cz
SUMMARY:PLAVÁNÍ
DESCRIPTION:Milí rodiče\, \nve středu 27.3.2024 proběhne kurz plavání.
URL:https://mskosik.cz/akce/plavani-6/
CATEGORIES:Akce
ATTACH;FMTTYPE=image/png:https://mskosik.cz/wp-content/uploads/2022/09/download.png
END:VEVENT
END:VCALENDAR