BEGIN:VCALENDAR
VERSION:2.0
PRODID:-//Mateřská škola KOŠÍK - ECPv6.11.0.1//NONSGML v1.0//EN
CALSCALE:GREGORIAN
METHOD:PUBLISH
X-WR-CALNAME:Mateřská škola KOŠÍK
X-ORIGINAL-URL:https://mskosik.cz
X-WR-CALDESC:Akce na Mateřská škola KOŠÍK
REFRESH-INTERVAL;VALUE=DURATION:PT1H
X-Robots-Tag:noindex
X-PUBLISHED-TTL:PT1H
BEGIN:VTIMEZONE
TZID:Europe/Prague
BEGIN:DAYLIGHT
TZOFFSETFROM:+0100
TZOFFSETTO:+0200
TZNAME:CEST
DTSTART:20240331T010000
END:DAYLIGHT
BEGIN:STANDARD
TZOFFSETFROM:+0200
TZOFFSETTO:+0100
TZNAME:CET
DTSTART:20241027T010000
END:STANDARD
END:VTIMEZONE
BEGIN:VEVENT
DTSTART;VALUE=DATE:20240110
DTEND;VALUE=DATE:20240111
DTSTAMP:20260422T235807
CREATED:20231004T074102Z
LAST-MODIFIED:20231004T075446Z
UID:2211-1704844800-1704931199@mskosik.cz
SUMMARY:PLAVÁNÍ - Vršek
DESCRIPTION:Milí rodiče\, \nve středu 10.1.2024 proběhne kurz plavání.
URL:https://mskosik.cz/akce/plavani-vrsek-12/
CATEGORIES:Akce
ATTACH;FMTTYPE=image/png:https://mskosik.cz/wp-content/uploads/2022/09/download.png
END:VEVENT
BEGIN:VEVENT
DTSTART;VALUE=DATE:20240117
DTEND;VALUE=DATE:20240118
DTSTAMP:20260422T235807
CREATED:20231004T074536Z
LAST-MODIFIED:20231004T075347Z
UID:2213-1705449600-1705535999@mskosik.cz
SUMMARY:PLAVÁNÍ - Vršek
DESCRIPTION:Milí rodiče\, \nve středu 17.1.2024 proběhne kurz plavání.
URL:https://mskosik.cz/akce/plavani-vrsek-13/
CATEGORIES:Akce
ATTACH;FMTTYPE=image/png:https://mskosik.cz/wp-content/uploads/2022/09/download.png
END:VEVENT
BEGIN:VEVENT
DTSTART;VALUE=DATE:20240124
DTEND;VALUE=DATE:20240125
DTSTAMP:20260422T235807
CREATED:20231004T075125Z
LAST-MODIFIED:20231004T075249Z
UID:2215-1706054400-1706140799@mskosik.cz
SUMMARY:PLAVÁNÍ - Vršek
DESCRIPTION:Milí rodiče\, \nve středu 24.1.2024 proběhne kurz plavání.
URL:https://mskosik.cz/akce/plavani-vrsek-14/
CATEGORIES:Akce
ATTACH;FMTTYPE=image/png:https://mskosik.cz/wp-content/uploads/2022/09/download.png
END:VEVENT
BEGIN:VEVENT
DTSTART;VALUE=DATE:20240131
DTEND;VALUE=DATE:20240201
DTSTAMP:20260422T235807
CREATED:20231004T075744Z
LAST-MODIFIED:20231004T075755Z
UID:2220-1706659200-1706745599@mskosik.cz
SUMMARY:PLAVÁNÍ - Vršek
DESCRIPTION:Milí rodiče\, \nve středu 31.1.2024 proběhne kurz plavání.
URL:https://mskosik.cz/akce/plavani-vrsek-15/
CATEGORIES:Akce
ATTACH;FMTTYPE=image/png:https://mskosik.cz/wp-content/uploads/2022/09/download.png
END:VEVENT
END:VCALENDAR