BEGIN:VCALENDAR
VERSION:2.0
PRODID:-//Mateřská škola KOŠÍK - ECPv6.11.0.1//NONSGML v1.0//EN
CALSCALE:GREGORIAN
METHOD:PUBLISH
X-ORIGINAL-URL:https://mskosik.cz
X-WR-CALDESC:Akce na Mateřská škola KOŠÍK
REFRESH-INTERVAL;VALUE=DURATION:PT1H
X-Robots-Tag:noindex
X-PUBLISHED-TTL:PT1H
BEGIN:VTIMEZONE
TZID:Europe/Prague
BEGIN:DAYLIGHT
TZOFFSETFROM:+0100
TZOFFSETTO:+0200
TZNAME:CEST
DTSTART:20230326T010000
END:DAYLIGHT
BEGIN:STANDARD
TZOFFSETFROM:+0200
TZOFFSETTO:+0100
TZNAME:CET
DTSTART:20231029T010000
END:STANDARD
END:VTIMEZONE
BEGIN:VEVENT
DTSTART;VALUE=DATE:20231004
DTEND;VALUE=DATE:20231005
DTSTAMP:20260423T043920
CREATED:20230929T073259Z
LAST-MODIFIED:20230929T073322Z
UID:2181-1696377600-1696463999@mskosik.cz
SUMMARY:PLAVÁNÍ - Vršek
DESCRIPTION:Milí rodiče\,\nve středu 4.10.2023 proběhne kurz plavání.
URL:https://mskosik.cz/akce/plavani-vrsek-2/
CATEGORIES:Akce
ATTACH;FMTTYPE=image/png:https://mskosik.cz/wp-content/uploads/2022/09/download.png
END:VEVENT
BEGIN:VEVENT
DTSTART;VALUE=DATE:20231011
DTEND;VALUE=DATE:20231012
DTSTAMP:20260423T043920
CREATED:20230929T073555Z
LAST-MODIFIED:20230929T073605Z
UID:2183-1696982400-1697068799@mskosik.cz
SUMMARY:PLAVÁNÍ - Vršek
DESCRIPTION:Milí rodiče\,\nve středu 11.10.2023 proběhne kurz plavání.
URL:https://mskosik.cz/akce/plavani-vrsek-3/
CATEGORIES:Akce
ATTACH;FMTTYPE=image/png:https://mskosik.cz/wp-content/uploads/2022/09/download.png
END:VEVENT
BEGIN:VEVENT
DTSTART;VALUE=DATE:20231018
DTEND;VALUE=DATE:20231019
DTSTAMP:20260423T043920
CREATED:20230929T073854Z
LAST-MODIFIED:20230929T073902Z
UID:2185-1697587200-1697673599@mskosik.cz
SUMMARY:PLAVÁNÍ - Vršek
DESCRIPTION:Milí rodiče\,\nve středu 18.10.2023 proběhne kurz plavání.
URL:https://mskosik.cz/akce/plavani-vrsek-4/
CATEGORIES:Akce
ATTACH;FMTTYPE=image/png:https://mskosik.cz/wp-content/uploads/2022/09/download.png
END:VEVENT
BEGIN:VEVENT
DTSTART;VALUE=DATE:20231025
DTEND;VALUE=DATE:20231026
DTSTAMP:20260423T043920
CREATED:20230929T075406Z
LAST-MODIFIED:20230929T075414Z
UID:2187-1698192000-1698278399@mskosik.cz
SUMMARY:PLAVÁNÍ - Vršek
DESCRIPTION:Milí rodiče\,\nve středu 25.10.2023 proběhne kurz plavání.
URL:https://mskosik.cz/akce/plavani-vrsek-5/
CATEGORIES:Akce
ATTACH;FMTTYPE=image/png:https://mskosik.cz/wp-content/uploads/2022/09/download.png
END:VEVENT
END:VCALENDAR