BEGIN:VCALENDAR
VERSION:2.0
PRODID:-//Mateřská škola KOŠÍK - ECPv6.11.0.1//NONSGML v1.0//EN
CALSCALE:GREGORIAN
METHOD:PUBLISH
X-WR-CALNAME:Mateřská škola KOŠÍK
X-ORIGINAL-URL:https://mskosik.cz
X-WR-CALDESC:Akce na Mateřská škola KOŠÍK
REFRESH-INTERVAL;VALUE=DURATION:PT1H
X-Robots-Tag:noindex
X-PUBLISHED-TTL:PT1H
BEGIN:VTIMEZONE
TZID:Europe/Prague
BEGIN:DAYLIGHT
TZOFFSETFROM:+0100
TZOFFSETTO:+0200
TZNAME:CEST
DTSTART:20250330T010000
END:DAYLIGHT
BEGIN:STANDARD
TZOFFSETFROM:+0200
TZOFFSETTO:+0100
TZNAME:CET
DTSTART:20251026T010000
END:STANDARD
END:VTIMEZONE
BEGIN:VEVENT
DTSTART;VALUE=DATE:20251031
DTEND;VALUE=DATE:20251101
DTSTAMP:20260419T223758
CREATED:20251008T155407Z
LAST-MODIFIED:20251008T155407Z
UID:3754-1761868800-1761955199@mskosik.cz
SUMMARY:Halloweenský karneval!
DESCRIPTION:Milí rodiče\, \nv pátek 31.10.2025 čeká všechny naše školky halloweenský karneval. \nDěti mohou přijít v kostýmu. \nUžijeme si spolu spoustu zábavy – budeme zpívat\, tancovat\, hrát hry a určitě nás čekají i nějaké dobrůtky!
URL:https://mskosik.cz/akce/halloweensky-karneval-3/
CATEGORIES:Akce
ATTACH;FMTTYPE=image/jpeg:https://mskosik.cz/wp-content/uploads/2023/09/haloooo.jpg
END:VEVENT
END:VCALENDAR