BEGIN:VCALENDAR
VERSION:2.0
PRODID:-//Mateřská škola KOŠÍK - ECPv6.11.0.1//NONSGML v1.0//EN
CALSCALE:GREGORIAN
METHOD:PUBLISH
X-WR-CALNAME:Mateřská škola KOŠÍK
X-ORIGINAL-URL:https://mskosik.cz
X-WR-CALDESC:Akce na Mateřská škola KOŠÍK
REFRESH-INTERVAL;VALUE=DURATION:PT1H
X-Robots-Tag:noindex
X-PUBLISHED-TTL:PT1H
BEGIN:VTIMEZONE
TZID:Europe/Prague
BEGIN:DAYLIGHT
TZOFFSETFROM:+0100
TZOFFSETTO:+0200
TZNAME:CEST
DTSTART:20230326T010000
END:DAYLIGHT
BEGIN:STANDARD
TZOFFSETFROM:+0200
TZOFFSETTO:+0100
TZNAME:CET
DTSTART:20231029T010000
END:STANDARD
END:VTIMEZONE
BEGIN:VEVENT
DTSTART;TZID=Europe/Prague:20231003T093000
DTEND;TZID=Europe/Prague:20231003T143000
DTSTAMP:20260419T141717
CREATED:20230929T062002Z
LAST-MODIFIED:20230929T062016Z
UID:2166-1696325400-1696343400@mskosik.cz
SUMMARY:CANISTERAPIE - Domeček
DESCRIPTION:Milí rodiče\, \nv úterý 3.10.2023 přijede do naší školky terapeut se speciálně vycvičeným psem. \nProgram začíná v 9:30. \nCANISTERAPIE – Program určený pro malé děti od jednoho roku do šesti let. Rozvíjí se při něm jemná i hrubá motorika\, koordinace rukou a nohou\, vztah dětí ke zvířatům a nádherně se uvolní při polohování. Více zde: https://helppes.cz/ \n 
URL:https://mskosik.cz/akce/canisterapie-domecek/
CATEGORIES:Akce
ATTACH;FMTTYPE=image/jpeg:https://mskosik.cz/wp-content/uploads/2021/09/canisterapie_shutterstock_423355195.840x540c.jpg
END:VEVENT
BEGIN:VEVENT
DTSTART;TZID=Europe/Prague:20231003T103000
DTEND;TZID=Europe/Prague:20231003T153000
DTSTAMP:20260419T141717
CREATED:20230929T060607Z
LAST-MODIFIED:20230929T061232Z
UID:2161-1696329000-1696347000@mskosik.cz
SUMMARY:CANISTERAPIE - Vršek
DESCRIPTION:Milí rodiče\, \nv úterý 3.10.2023 přijede do naší školky terapeut se speciálně vycvičeným psem. \nProgram začíná v 10:30. \nCANISTERAPIE – Program určený pro malé děti od jednoho roku do šesti let. Rozvíjí se při něm jemná i hrubá motorika\, koordinace rukou a nohou\, vztah dětí ke zvířatům a nádherně se uvolní při polohování. Více zde: https://helppes.cz/ \n  \n  \n 
URL:https://mskosik.cz/akce/canisterapie-vrsek/
CATEGORIES:Akce
ATTACH;FMTTYPE=image/jpeg:https://mskosik.cz/wp-content/uploads/2021/09/canisterapie_shutterstock_423355195.840x540c.jpg
END:VEVENT
BEGIN:VEVENT
DTSTART;TZID=Europe/Prague:20231026T093000
DTEND;TZID=Europe/Prague:20231026T143000
DTSTAMP:20260419T141717
CREATED:20230929T062633Z
LAST-MODIFIED:20230929T062703Z
UID:2168-1698312600-1698330600@mskosik.cz
SUMMARY:CANISTERAPIE - Šeberov
DESCRIPTION:Milí rodiče\, \nve čtvrtek 26.10.2023 přijede do naší školky terapeut se speciálně vycvičeným psem. \nProgram začíná v 9:30. \nCANISTERAPIE – Program určený pro malé děti od jednoho roku do šesti let. Rozvíjí se při něm jemná i hrubá motorika\, koordinace rukou a nohou\, vztah dětí ke zvířatům a nádherně se uvolní při polohování. Více zde: https://helppes.cz/ \n 
URL:https://mskosik.cz/akce/canisterapie-seberov-2/
CATEGORIES:Akce
ATTACH;FMTTYPE=image/jpeg:https://mskosik.cz/wp-content/uploads/2021/09/canisterapie_shutterstock_423355195.840x540c.jpg
END:VEVENT
END:VCALENDAR