BEGIN:VCALENDAR
VERSION:2.0
PRODID:-//Mateřská škola KOŠÍK - ECPv6.11.0.1//NONSGML v1.0//EN
CALSCALE:GREGORIAN
METHOD:PUBLISH
X-ORIGINAL-URL:https://mskosik.cz
X-WR-CALDESC:Akce na Mateřská škola KOŠÍK
REFRESH-INTERVAL;VALUE=DURATION:PT1H
X-Robots-Tag:noindex
X-PUBLISHED-TTL:PT1H
BEGIN:VTIMEZONE
TZID:Europe/Prague
BEGIN:DAYLIGHT
TZOFFSETFROM:+0100
TZOFFSETTO:+0200
TZNAME:CEST
DTSTART:20220327T010000
END:DAYLIGHT
BEGIN:STANDARD
TZOFFSETFROM:+0200
TZOFFSETTO:+0100
TZNAME:CET
DTSTART:20221030T010000
END:STANDARD
END:VTIMEZONE
BEGIN:VEVENT
DTSTART;TZID=Europe/Prague:20220209T080000
DTEND;TZID=Europe/Prague:20220209T120000
DTSTAMP:20260420T201100
CREATED:20210910T121046Z
LAST-MODIFIED:20210910T121046Z
UID:1407-1644393600-1644408000@mskosik.cz
SUMMARY:CANISTERAPIE - Šeberov
DESCRIPTION:Milí rodiče\, \nve středu 9.2.2022 přijede do naší školky terapeut se speciálně vycvičeným psem. \nPřiveďte děti nejpozději do 9:00. \nCANISTERAPIE – Program určený pro malé děti od jednoho do šesti let. Rozvíjí se při něm jemná i hrubá motorika\, koordinace rukou a nohou\, vztah dětí ke zvířatům a nádherně se uvolní při polohování. Více zde: https://centrumalfa.webnode.cz/
URL:https://mskosik.cz/akce/canisterapie-seberov/
CATEGORIES:Akce
ATTACH;FMTTYPE=image/jpeg:https://mskosik.cz/wp-content/uploads/2021/09/canisterapie_shutterstock_423355195.840x540c.jpg
END:VEVENT
END:VCALENDAR