BEGIN:VCALENDAR
VERSION:2.0
PRODID:-//Mateřská škola KOŠÍK - ECPv6.11.0.1//NONSGML v1.0//EN
CALSCALE:GREGORIAN
METHOD:PUBLISH
X-WR-CALNAME:Mateřská škola KOŠÍK
X-ORIGINAL-URL:https://mskosik.cz
X-WR-CALDESC:Akce na Mateřská škola KOŠÍK
REFRESH-INTERVAL;VALUE=DURATION:PT1H
X-Robots-Tag:noindex
X-PUBLISHED-TTL:PT1H
BEGIN:VTIMEZONE
TZID:Europe/Prague
BEGIN:DAYLIGHT
TZOFFSETFROM:+0100
TZOFFSETTO:+0200
TZNAME:CEST
DTSTART:20210328T010000
END:DAYLIGHT
BEGIN:STANDARD
TZOFFSETFROM:+0200
TZOFFSETTO:+0100
TZNAME:CET
DTSTART:20211031T010000
END:STANDARD
END:VTIMEZONE
BEGIN:VEVENT
DTSTART;TZID=Europe/Prague:20211110T080000
DTEND;TZID=Europe/Prague:20211110T120000
DTSTAMP:20260421T004509
CREATED:20210910T120156Z
LAST-MODIFIED:20210910T120156Z
UID:1402-1636531200-1636545600@mskosik.cz
SUMMARY:CANISTERAPIE - Hostivař
DESCRIPTION:Milí rodiče\, \nve středu 10.11.2021 přijede do naší školky terapeut se speciálně vycvičeným psem. \nPřiveďte děti nejpozději do 8:45. \nCANISTERAPIE – Program určený pro malé děti od jednoho do šesti let. Rozvíjí se při něm jemná i hrubá motorika\, koordinace rukou a nohou\, vztah dětí ke zvířatům a nádherně se uvolní při polohování. Více zde: https://centrumalfa.webnode.cz/
URL:https://mskosik.cz/akce/canisterapie-hostivar/
CATEGORIES:Akce
ATTACH;FMTTYPE=image/jpeg:https://mskosik.cz/wp-content/uploads/2021/09/canisterapie_shutterstock_423355195.840x540c.jpg
END:VEVENT
BEGIN:VEVENT
DTSTART;TZID=Europe/Prague:20211123T093000
DTEND;TZID=Europe/Prague:20211123T120000
DTSTAMP:20260421T004509
CREATED:20210910T120438Z
LAST-MODIFIED:20211110T093026Z
UID:1405-1637659800-1637668800@mskosik.cz
SUMMARY:ŹMĚNA!!! CANISTERAPIE - Zbraslav
DESCRIPTION:Milí rodiče\, \nv úterý 23.11.2021 přijede do naší školky terapeut se speciálně vycvičeným psem. \nPřiveďte děti nejpozději do 8:30. Program začíná v 9:30. \nCANISTERAPIE – Program určený pro malé děti od jednoho do šesti let. Rozvíjí se při něm jemná i hrubá motorika\, koordinace rukou a nohou\, vztah dětí ke zvířatům a nádherně se uvolní při polohování. Více zde: https://centrumalfa.webnode.cz/
URL:https://mskosik.cz/akce/canisterapie-zbraslav/
CATEGORIES:Akce
ATTACH;FMTTYPE=image/jpeg:https://mskosik.cz/wp-content/uploads/2021/09/canisterapie_shutterstock_423355195.840x540c.jpg
END:VEVENT
END:VCALENDAR