BEGIN:VCALENDAR
VERSION:2.0
PRODID:-//Mateřská škola KOŠÍK - ECPv6.11.0.1//NONSGML v1.0//EN
CALSCALE:GREGORIAN
METHOD:PUBLISH
X-WR-CALNAME:Mateřská škola KOŠÍK
X-ORIGINAL-URL:https://mskosik.cz
X-WR-CALDESC:Akce na Mateřská škola KOŠÍK
REFRESH-INTERVAL;VALUE=DURATION:PT1H
X-Robots-Tag:noindex
X-PUBLISHED-TTL:PT1H
BEGIN:VTIMEZONE
TZID:Europe/Prague
BEGIN:DAYLIGHT
TZOFFSETFROM:+0100
TZOFFSETTO:+0200
TZNAME:CEST
DTSTART:20240331T010000
END:DAYLIGHT
BEGIN:STANDARD
TZOFFSETFROM:+0200
TZOFFSETTO:+0100
TZNAME:CET
DTSTART:20241027T010000
END:STANDARD
END:VTIMEZONE
BEGIN:VEVENT
DTSTART;TZID=Europe/Prague:20241126T150000
DTEND;TZID=Europe/Prague:20241126T180000
DTSTAMP:20260420T030854
CREATED:20241022T094738Z
LAST-MODIFIED:20241022T094738Z
UID:2943-1732633200-1732644000@mskosik.cz
SUMMARY:ADVENTNÍ TVOŘENÍ - Vršek
DESCRIPTION:Milí rodiče\, \ns radostí Vás zveme na další ročník adventního tvoření v naší školce. \nKdy: v úterý 26.11.2024 od 15h do 18h v MŠ (Vršek) \nKdo je pozván: akce je určená pro naše děti s jejich rodiči\, na akci můžete pozvat i své přátele s dětmi či babičky\, strýčky atd… akce je tedy pro veřejnost. \nCo nabízíme: i letos si můžete v naší školce\, za pomoci odborníka\, vyrobit adventní věnec se svíčkami\, vánoční věnec na dveře\, svícny\, či jinou Vánoční dekoraci. Ve školce bude k dispozici materiál\, který se hradí ideálně v hotovosti ve školce. Cena za materiál u jednotlivých výrobků se liší\, ale pohybujeme se v rozmezí 250\,- (např. svícen) – 600\,- (adventní věnec se svíčkami) za výrobek. \nbudou koledy\, kafíčko i punč 😊 \nTěšíme se na vás!
URL:https://mskosik.cz/akce/adventni-tvoreni-vrsek-2/
CATEGORIES:Akce
ATTACH;FMTTYPE=image/jpeg:https://mskosik.cz/wp-content/uploads/2021/11/venec.jpg
END:VEVENT
BEGIN:VEVENT
DTSTART;TZID=Europe/Prague:20241127T143000
DTEND;TZID=Europe/Prague:20241127T173000
DTSTAMP:20260420T030854
CREATED:20241022T095318Z
LAST-MODIFIED:20241022T095318Z
UID:2945-1732717800-1732728600@mskosik.cz
SUMMARY:ADVENTNÍ TVOŘENÍ - Domeček
DESCRIPTION:Milí rodiče\, \ns radostí Vás zveme na další ročník adventního tvoření v naší školce. \nKdy: ve středu 27.11.2024 od 14:30 do 17:30 v MŠ (Domeček) \nKdo je pozván: akce je určená pro naše děti s jejich rodiči\, na akci můžete pozvat i své přátele s dětmi či babičky\, strýčky atd… akce je tedy pro veřejnost. \nCo nabízíme: i letos si můžete v naší školce\, za pomoci odborníka\, vyrobit adventní věnec se svíčkami\, vánoční věnec na dveře\, svícny\, či jinou Vánoční dekoraci. Ve školce bude k dispozici materiál\, který se hradí ideálně v hotovosti ve školce. Cena za materiál u jednotlivých výrobků se liší\, ale pohybujeme se v rozmezí 250\,- (např. svícen) – 600\,- (adventní věnec se svíčkami) za výrobek. \nbudou koledy\, kafíčko i punč 😊 \nTěšíme se na vás!
URL:https://mskosik.cz/akce/adventni-tvoreni-domecek-2/
CATEGORIES:Akce
ATTACH;FMTTYPE=image/jpeg:https://mskosik.cz/wp-content/uploads/2021/11/venec.jpg
END:VEVENT
BEGIN:VEVENT
DTSTART;TZID=Europe/Prague:20241128T150000
DTEND;TZID=Europe/Prague:20241128T180000
DTSTAMP:20260420T030854
CREATED:20241022T094416Z
LAST-MODIFIED:20241022T094416Z
UID:2941-1732806000-1732816800@mskosik.cz
SUMMARY:ADVENTNÍ TVOŘENÍ - Šeberov
DESCRIPTION:Milí rodiče\, \ns radostí Vás zveme na další ročník adventního tvoření v naší školce. \nKdy: ve čtvrtek 28.11.2024 od 15h do 18h v MŠ (Šeberov) \nKdo je pozván: akce je určená pro naše děti s jejich rodiči\, na akci můžete pozvat i své přátele s dětmi či babičky\, strýčky atd… akce je tedy pro veřejnost. \nCo nabízíme: i letos si můžete v naší školce\, za pomoci odborníka\, vyrobit adventní věnec se svíčkami\, vánoční věnec na dveře\, svícny\, či jinou Vánoční dekoraci. Ve školce bude k dispozici materiál\, který se hradí ideálně v hotovosti ve školce. Cena za materiál u jednotlivých výrobků se liší\, ale pohybujeme se v rozmezí 250\,- (např. svícen) – 600\,- (adventní věnec se svíčkami) za výrobek. \nbudou koledy\, kafíčko i punč 😊 \nTěšíme se na vás! \n 
URL:https://mskosik.cz/akce/adventni-tvoreni-seberov-3/
CATEGORIES:Akce
ATTACH;FMTTYPE=image/jpeg:https://mskosik.cz/wp-content/uploads/2021/11/venec.jpg
END:VEVENT
END:VCALENDAR