BEGIN:VCALENDAR
VERSION:2.0
PRODID:-//Mateřská škola KOŠÍK - ECPv6.11.0.1//NONSGML v1.0//EN
CALSCALE:GREGORIAN
METHOD:PUBLISH
X-WR-CALNAME:Mateřská škola KOŠÍK
X-ORIGINAL-URL:https://mskosik.cz
X-WR-CALDESC:Akce na Mateřská škola KOŠÍK
REFRESH-INTERVAL;VALUE=DURATION:PT1H
X-Robots-Tag:noindex
X-PUBLISHED-TTL:PT1H
BEGIN:VTIMEZONE
TZID:Europe/Prague
BEGIN:DAYLIGHT
TZOFFSETFROM:+0100
TZOFFSETTO:+0200
TZNAME:CEST
DTSTART:20230326T010000
END:DAYLIGHT
BEGIN:STANDARD
TZOFFSETFROM:+0200
TZOFFSETTO:+0100
TZNAME:CET
DTSTART:20231029T010000
END:STANDARD
END:VTIMEZONE
BEGIN:VEVENT
DTSTART;TZID=Europe/Prague:20231128T150000
DTEND;TZID=Europe/Prague:20231128T180000
DTSTAMP:20260420T214112
CREATED:20231109T080820Z
LAST-MODIFIED:20231109T080827Z
UID:2327-1701183600-1701194400@mskosik.cz
SUMMARY:ADVENTNÍ TVOŘENÍ - VRŠEK
DESCRIPTION:Milí rodiče\, \nS radostí Vás zveme na další ročník adventního tvoření v naší školce. \nKdy: 28.11.2023 od 15 do 18h v MŠ (Vršek) \nKdo je pozván: akce je určená pro naše děti s jejich rodiči\, na akci můžete pozvat i své přátele s dětmi či babičky\, strýčky atd… akce je tedy pro veřejnost. \nCo nabízíme: i letos si můžete v naší školce\, za pomoci odborníka\, vyrobit adventní věnec se svíčkami\, vánoční věnec na dveře\, svícny\, či jinou Vánoční dekoraci. Ve školce bude k dispozici materiál\, který se hradí ideálně v hotovosti ve školce. Cena za materiál u jednotlivých výrobků se liší\, ale pohybujeme se v rozmezí 250\,- (např. svícen) – 600\,- (adventní věnec se svíčkami) za výrobek. \n  \nTěšíme se na vás! \nPS: budou koledy\, kafíčko i punč 😊
URL:https://mskosik.cz/akce/adventni-tvoreni-vrsek/
CATEGORIES:Akce
ATTACH;FMTTYPE=image/jpeg:https://mskosik.cz/wp-content/uploads/2021/11/venec.jpg
END:VEVENT
BEGIN:VEVENT
DTSTART;TZID=Europe/Prague:20231129T143000
DTEND;TZID=Europe/Prague:20231129T163000
DTSTAMP:20260420T214112
CREATED:20231109T081225Z
LAST-MODIFIED:20231109T081231Z
UID:2329-1701268200-1701275400@mskosik.cz
SUMMARY:ADVENTNÍ TVOŘENÍ - DOMEČEK
DESCRIPTION:Milí rodiče\, \nS radostí Vás zveme na další ročník adventního tvoření v naší školce. \nKdy: 29.11.2023 od 14:30 do 16:30 v MŠ (Domeček) \nKdo je pozván: akce je určená pro naše děti s jejich rodiči\, na akci můžete pozvat i své přátele s dětmi či babičky\, strýčky atd… akce je tedy pro veřejnost. \nCo nabízíme: i letos si můžete v naší školce\, za pomoci odborníka\, vyrobit adventní věnec se svíčkami\, vánoční věnec na dveře\, svícny\, či jinou Vánoční dekoraci. Ve školce bude k dispozici materiál\, který se hradí ideálně v hotovosti ve školce. Cena za materiál u jednotlivých výrobků se liší\, ale pohybujeme se v rozmezí 250\,- (např. svícen) – 600\,- (adventní věnec se svíčkami) za výrobek. \n  \nTěšíme se na vás! \nPS: budou koledy\, kafíčko i punč 😊
URL:https://mskosik.cz/akce/adventni-tvoreni-domecek/
CATEGORIES:Akce
ATTACH;FMTTYPE=image/jpeg:https://mskosik.cz/wp-content/uploads/2021/11/venec.jpg
END:VEVENT
BEGIN:VEVENT
DTSTART;TZID=Europe/Prague:20231130T150000
DTEND;TZID=Europe/Prague:20231130T180000
DTSTAMP:20260420T214112
CREATED:20231109T081605Z
LAST-MODIFIED:20231109T081612Z
UID:2331-1701356400-1701367200@mskosik.cz
SUMMARY:ADVENTNÍ TVOŘENÍ - ŠEBEROV
DESCRIPTION:Milí rodiče\, \nS radostí Vás zveme na další ročník adventního tvoření v naší školce. \nKdy: 30.11.2023 od 15:00 do 18h v MŠ (Šeberov) \nKdo je pozván: akce je určená pro naše děti s jejich rodiči\, na akci můžete pozvat i své přátele s dětmi či babičky\, strýčky atd… akce je tedy pro veřejnost. \nCo nabízíme: i letos si můžete v naší školce\, za pomoci odborníka\, vyrobit adventní věnec se svíčkami\, vánoční věnec na dveře\, svícny\, či jinou Vánoční dekoraci. Ve školce bude k dispozici materiál\, který se hradí ideálně v hotovosti ve školce. Cena za materiál u jednotlivých výrobků se liší\, ale pohybujeme se v rozmezí 250\,- (např. svícen) – 600\,- (adventní věnec se svíčkami) za výrobek. \n  \nTěšíme se na vás! \nPS: budou koledy\, kafíčko i punč 😊
URL:https://mskosik.cz/akce/adventni-tvoreni-seberov-2/
CATEGORIES:Akce
ATTACH;FMTTYPE=image/jpeg:https://mskosik.cz/wp-content/uploads/2021/11/venec.jpg
END:VEVENT
END:VCALENDAR