BEGIN:VCALENDAR
VERSION:2.0
PRODID:-//Mateřská škola KOŠÍK - ECPv6.11.0.1//NONSGML v1.0//EN
CALSCALE:GREGORIAN
METHOD:PUBLISH
X-WR-CALNAME:Mateřská škola KOŠÍK
X-ORIGINAL-URL:https://mskosik.cz
X-WR-CALDESC:Akce na Mateřská škola KOŠÍK
REFRESH-INTERVAL;VALUE=DURATION:PT1H
X-Robots-Tag:noindex
X-PUBLISHED-TTL:PT1H
BEGIN:VTIMEZONE
TZID:Europe/Prague
BEGIN:DAYLIGHT
TZOFFSETFROM:+0100
TZOFFSETTO:+0200
TZNAME:CEST
DTSTART:20210328T010000
END:DAYLIGHT
BEGIN:STANDARD
TZOFFSETFROM:+0200
TZOFFSETTO:+0100
TZNAME:CET
DTSTART:20211031T010000
END:STANDARD
END:VTIMEZONE
BEGIN:VEVENT
DTSTART;TZID=Europe/Prague:20211124T150000
DTEND;TZID=Europe/Prague:20211124T180000
DTSTAMP:20260422T133339
CREATED:20211110T100558Z
LAST-MODIFIED:20211110T101440Z
UID:1497-1637766000-1637776800@mskosik.cz
SUMMARY:Adventní tvoření ZBRASLAV
DESCRIPTION:Milí rodiče\, \njsme moc rádi\, že Vás letos můžeme pozvat na společné adventní tvoření. \nZveme vás ve STŘEDU 24.11.2021 ke společnému zdobění adventních věnců\, kávě\, čaji\, cukroví a koledám. Vyrábění bude probíhat mezi 15:00 a 18:00 hodinou. \nPřijďte kdykoli v tomto čase. Budeme mít pro vás připravené (namotané) věnce a spoustu ozdob\, výběr svíček\, stuh a dalšího. Se svými dětmi si můžete vyrobit adventní věnec podle vašich představ. \nBude možné vyrobit si také věnec na dveře či malý stromeček v květináčku. K dispozici budou i nazdobené věnce pro vaši inspiraci či ke koupi pro vaše známé. \nSe vším vám pomůže naše floristka Markéta Ryšlavá\, která ve spolupráci s naší mateřskou školou kurz tvoření připravila.  \nCena: Platí se materiál\, který spotřebujete. Pro vaši představu cena věnce – 250\,- až 500\,-/kus. Věnce se platí floristce přímo na místě v hotovosti. \nTěíme se na vás! \n  \nPS: Všichni zůčastnění se musí prokázat covid pasem či platným testem. \n \n  \n 
URL:https://mskosik.cz/akce/adventni-tvoreni/
CATEGORIES:Akce
ATTACH;FMTTYPE=image/jpeg:https://mskosik.cz/wp-content/uploads/2021/11/venec.jpg
END:VEVENT
BEGIN:VEVENT
DTSTART;TZID=Europe/Prague:20211125T150000
DTEND;TZID=Europe/Prague:20211125T180000
DTSTAMP:20260422T133339
CREATED:20211110T103059Z
LAST-MODIFIED:20211110T103059Z
UID:1501-1637852400-1637863200@mskosik.cz
SUMMARY:Adventní tvoření HOSTIVAŘ
DESCRIPTION:Milí rodiče\, \njsme moc rádi\, že Vás letos můžeme pozvat na společné adventní tvoření. \nZveme vás ve ČTVRTEK 25.11.2021 ke společnému zdobění adventních věnců\, kávě\, čaji\, cukroví a koledám. Vyrábění bude probíhat mezi 15:00 a 18:00 hodinou. \nPřijďte kdykoli v tomto čase. Budeme mít pro vás připravené (namotané) věnce a spoustu ozdob\, výběr svíček\, stuh a dalšího. Se svými dětmi si můžete vyrobit adventní věnec podle vašich představ. \nBude možné vyrobit si také věnec na dveře či malý stromeček v květináčku. K dispozici budou i nazdobené věnce pro vaši inspiraci či ke koupi pro vaše známé. \nSe vším vám pomůže naše floristka Markéta Ryšlavá\, která ve spolupráci s naší mateřskou školou kurz tvoření připravila. \nCena: Platí se materiál\, který spotřebujete. Pro vaši představu cena věnce – 250\,- až 500\,-/kus. Věnce se platí floristce přímo na místě v hotovosti. \nTěíme se na vás! \n  \nPS: Všichni zůčastnění se musí prokázat covid pasem či platným testem.
URL:https://mskosik.cz/akce/adventni-tvoreni-hostivar/
CATEGORIES:Akce
ATTACH;FMTTYPE=image/jpeg:https://mskosik.cz/wp-content/uploads/2021/11/venec.jpg
END:VEVENT
BEGIN:VEVENT
DTSTART;TZID=Europe/Prague:20211126T150000
DTEND;TZID=Europe/Prague:20211126T180000
DTSTAMP:20260422T133339
CREATED:20211110T103304Z
LAST-MODIFIED:20211110T103304Z
UID:1503-1637938800-1637949600@mskosik.cz
SUMMARY:Adventní tvoření ŠEBEROV
DESCRIPTION:Milí rodiče\, \njsme moc rádi\, že Vás letos můžeme pozvat na společné adventní tvoření. \nZveme vás v PÁTEK 26.11.2021 ke společnému zdobění adventních věnců\, kávě\, čaji\, cukroví a koledám. Vyrábění bude probíhat mezi 15:00 a 18:00 hodinou. \nPřijďte kdykoli v tomto čase. Budeme mít pro vás připravené (namotané) věnce a spoustu ozdob\, výběr svíček\, stuh a dalšího. Se svými dětmi si můžete vyrobit adventní věnec podle vašich představ. \nBude možné vyrobit si také věnec na dveře či malý stromeček v květináčku. K dispozici budou i nazdobené věnce pro vaši inspiraci či ke koupi pro vaše známé. \nSe vším vám pomůže naše floristka Markéta Ryšlavá\, která ve spolupráci s naší mateřskou školou kurz tvoření připravila. \nCena: Platí se materiál\, který spotřebujete. Pro vaši představu cena věnce – 250\,- až 500\,-/kus. Věnce se platí floristce přímo na místě v hotovosti. \nTěíme se na vás! \n  \nPS: Všichni zůčastnění se musí prokázat covid pasem či platným testem.
URL:https://mskosik.cz/akce/adventni-tvoreni-seberov/
CATEGORIES:Akce
END:VEVENT
END:VCALENDAR